BEGIN:VCALENDAR
VERSION:2.0
PRODID:-//Big Brothers Big Sisters of Langley - ECPv6.15.17//NONSGML v1.0//EN
CALSCALE:GREGORIAN
METHOD:PUBLISH
X-WR-CALNAME:Big Brothers Big Sisters of Langley
X-ORIGINAL-URL:https://langley.bigbrothersbigsisters.ca
X-WR-CALDESC:Events for Big Brothers Big Sisters of Langley
REFRESH-INTERVAL;VALUE=DURATION:PT1H
X-Robots-Tag:noindex
X-PUBLISHED-TTL:PT1H
BEGIN:VTIMEZONE
TZID:America/Vancouver
BEGIN:DAYLIGHT
TZOFFSETFROM:-0800
TZOFFSETTO:-0700
TZNAME:PDT
DTSTART:20250309T100000
END:DAYLIGHT
BEGIN:STANDARD
TZOFFSETFROM:-0700
TZOFFSETTO:-0800
TZNAME:PST
DTSTART:20251102T090000
END:STANDARD
BEGIN:DAYLIGHT
TZOFFSETFROM:-0800
TZOFFSETTO:-0700
TZNAME:PDT
DTSTART:20260308T100000
END:DAYLIGHT
BEGIN:STANDARD
TZOFFSETFROM:-0700
TZOFFSETTO:-0800
TZNAME:PST
DTSTART:20261101T090000
END:STANDARD
BEGIN:DAYLIGHT
TZOFFSETFROM:-0800
TZOFFSETTO:-0700
TZNAME:PDT
DTSTART:20270314T100000
END:DAYLIGHT
BEGIN:STANDARD
TZOFFSETFROM:-0700
TZOFFSETTO:-0800
TZNAME:PST
DTSTART:20271107T090000
END:STANDARD
END:VTIMEZONE
BEGIN:VEVENT
DTSTART;TZID=America/Vancouver:20260306T183000
DTEND;TZID=America/Vancouver:20260306T193000
DTSTAMP:20260419T185139
CREATED:20260120T181604Z
LAST-MODIFIED:20260120T181604Z
UID:11728-1772821800-1772825400@langley.bigbrothersbigsisters.ca
SUMMARY:SpinCo Cloverdale's Spin It Forward Ride
DESCRIPTION:Big Brothers Big Sisters is SpinCo Cloverdale’s Spin It Forward recipient for their Friday night rides at 6:30pm throughout the month of March! When you join a Friday ride\, your $10 admission is donated directly back to our agency to help support mentorship programs right here in our community. Grab a friend\, hop on a bike\, and sweat for a great cause while giving back to local youth. \nBuy your ride credit here: https://spinco.ca/buy/?_mt=%2Fbuy%2F48759%3FactiveProduct%3Dcredits-14979Sign up for your class here: https://spinco.ca/book/?_mt=%2Fschedule%2Fdaily%2F48541%3FactiveDate%3D2026-03-06%26locations%3D48759
URL:https://langley.bigbrothersbigsisters.ca/events-calendar/spinco-cloverdales-spin-it-forward-ride/
END:VEVENT
BEGIN:VEVENT
DTSTART;TZID=America/Vancouver:20260306T191500
DTEND;TZID=America/Vancouver:20260306T214500
DTSTAMP:20260419T185139
CREATED:20260209T173751Z
LAST-MODIFIED:20260209T181057Z
UID:11869-1772824500-1772833500@langley.bigbrothersbigsisters.ca
SUMMARY:BBBSL Cheering on the Langley Rivermen!
DESCRIPTION:We’re heading to the Langley Rivermen Hockey Game on Friday\, March 6th at 7:15pm at The George Preston Recreation Centre in Langley! \nTickets are just $10 (plus tax) and when you purchase through our unique link\, 50% of every ticket sold comes back to support Big Brothers Big Sisters Langley. \nIt’s a super fun night out cheering on our local team and an easy way to give back to youth in our community. Win win 💙 \nTickets can be purchased here:  Create Amazing Experiences · Showpass
URL:https://langley.bigbrothersbigsisters.ca/events-calendar/langley-rivermen-game/
END:VEVENT
BEGIN:VEVENT
DTSTART;TZID=America/Vancouver:20260313T183000
DTEND;TZID=America/Vancouver:20260313T193000
DTSTAMP:20260419T185139
CREATED:20260120T181856Z
LAST-MODIFIED:20260120T181856Z
UID:11730-1773426600-1773430200@langley.bigbrothersbigsisters.ca
SUMMARY:SpinCo Cloverdale’s Spin It Forward Ride
DESCRIPTION:Big Brothers Big Sisters is SpinCo Cloverdale’s Spin It Forward recipient for their Friday night rides at 6:30pm throughout the month of March! When you join a Friday ride\, your $10 admission is donated directly back to our agency to help support mentorship programs right here in our community. Grab a friend\, hop on a bike\, and sweat for a great cause while giving back to local youth. \nBuy your ride credit here: https://spinco.ca/buy/?_mt=%2Fbuy%2F48759%3FactiveProduct%3Dcredits-14979Sign up for your class here: https://spinco.ca/book/?_mt=%2Fschedule%2Fdaily%2F48541%3FactiveDate%3D2026-03-06%26locations%3D48759
URL:https://langley.bigbrothersbigsisters.ca/events-calendar/spinco-cloverdales-spin-it-forward-ride-2/
END:VEVENT
BEGIN:VEVENT
DTSTART;TZID=America/Vancouver:20260320T183000
DTEND;TZID=America/Vancouver:20260320T193000
DTSTAMP:20260419T185139
CREATED:20260120T182009Z
LAST-MODIFIED:20260120T182009Z
UID:11732-1774031400-1774035000@langley.bigbrothersbigsisters.ca
SUMMARY:SpinCo Cloverdale’s Spin It Forward Ride
DESCRIPTION:Big Brothers Big Sisters is SpinCo Cloverdale’s Spin It Forward recipient for their Friday night rides at 6:30pm throughout the month of March! When you join a Friday ride\, your $10 admission is donated directly back to our agency to help support mentorship programs right here in our community. Grab a friend\, hop on a bike\, and sweat for a great cause while giving back to local youth. \nBuy your ride credit here: https://spinco.ca/buy/?_mt=%2Fbuy%2F48759%3FactiveProduct%3Dcredits-14979Sign up for your class here: https://spinco.ca/book/?_mt=%2Fschedule%2Fdaily%2F48541%3FactiveDate%3D2026-03-06%26locations%3D48759
URL:https://langley.bigbrothersbigsisters.ca/events-calendar/spinco-cloverdales-spin-it-forward-ride-3/
END:VEVENT
BEGIN:VEVENT
DTSTART;TZID=America/Vancouver:20260327T183000
DTEND;TZID=America/Vancouver:20260327T193000
DTSTAMP:20260419T185139
CREATED:20260120T182044Z
LAST-MODIFIED:20260120T182044Z
UID:11734-1774636200-1774639800@langley.bigbrothersbigsisters.ca
SUMMARY:SpinCo Cloverdale’s Spin It Forward Ride
DESCRIPTION:Big Brothers Big Sisters is SpinCo Cloverdale’s Spin It Forward recipient for their Friday night rides at 6:30pm throughout the month of March! When you join a Friday ride\, your $10 admission is donated directly back to our agency to help support mentorship programs right here in our community. Grab a friend\, hop on a bike\, and sweat for a great cause while giving back to local youth. \nBuy your ride credit here: https://spinco.ca/buy/?_mt=%2Fbuy%2F48759%3FactiveProduct%3Dcredits-14979Sign up for your class here: https://spinco.ca/book/?_mt=%2Fschedule%2Fdaily%2F48541%3FactiveDate%3D2026-03-06%26locations%3D48759
URL:https://langley.bigbrothersbigsisters.ca/events-calendar/spinco-cloverdales-spin-it-forward-ride-4/
END:VEVENT
BEGIN:VEVENT
DTSTART;TZID=America/Vancouver:20260418T100000
DTEND;TZID=America/Vancouver:20260418T180000
DTSTAMP:20260419T185139
CREATED:20260121T202537Z
LAST-MODIFIED:20260121T202537Z
UID:11749-1776506400-1776535200@langley.bigbrothersbigsisters.ca
SUMMARY:Used Book Sale
DESCRIPTION:Big Brothers Big Sisters of Langley is hosting a HUGE USED Book Sale!   Discover great reads while supporting a wonderful cause! \nAll proceeds go directly to Big Brothers Big Sisters of Langley mentorship programs\, helping ignite youth’s potential in our community. \nLocation: Langley Event Centre (Building B/Fieldhouse)\,  7888 200 St\, Langley\, BC \nDates: Saturday\, April 18th – Sunday\, April 19th 2026 \nFind out more details here: Used Book Sale – Big Brothers Big Sisters of Langley
URL:https://langley.bigbrothersbigsisters.ca/events-calendar/used-book-sale/
END:VEVENT
BEGIN:VEVENT
DTSTART;TZID=America/Vancouver:20260419T100000
DTEND;TZID=America/Vancouver:20260419T180000
DTSTAMP:20260419T185139
CREATED:20260121T202712Z
LAST-MODIFIED:20260121T202804Z
UID:11751-1776592800-1776621600@langley.bigbrothersbigsisters.ca
SUMMARY:Used Book Sale
DESCRIPTION:Big Brothers Big Sisters of Langley is hosting a HUGE USED Book Sale!   Discover great reads while supporting a wonderful cause! \nAll proceeds go directly to Big Brothers Big Sisters of Langley mentorship programs\, helping ignite youth’s potential in our community. \nLocation: Langley Event Centre (Building B/Fieldhouse)\,  7888 200 St\, Langley\, BC \nDates: Saturday\, April 18th – Sunday\, April 19th 2026 \nFind out more details here: Used Book Sale – Big Brothers Big Sisters of Langley
URL:https://langley.bigbrothersbigsisters.ca/events-calendar/used-book-sale-2/
END:VEVENT
BEGIN:VEVENT
DTSTART;VALUE=DATE:20260427
DTEND;VALUE=DATE:20260504
DTSTAMP:20260419T185139
CREATED:20260121T204323Z
LAST-MODIFIED:20260414T163956Z
UID:11753-1777248000-1777852799@langley.bigbrothersbigsisters.ca
SUMMARY:Smile Cookie Week!
DESCRIPTION:Don’t forget to grab your Smile Cookies from Tim Hortons this week! \nStop by one of these Tim Hortons locations during this week and 100% of proceeds from Smile Cookies bought will go to support Big Brothers Big Sisters Langley! \nYou can also pre-order your cookies by the dozen to share with your friends\, family\, co-workers or pay it forward to share smiles with someone in your community!  Pre-order here: https://form.jotform.com/langleybigbrothersbigsisters/smile-cookie-preorder-form-2026 \n🍪Willoughby:   8024 204th St\, Langley\, BC\n🍪ESSO Gas Station: 7272 200TH St\, Langley\, BC\n🍪Petro-Canada Gas Station: 19971 72nd Ave\, Langley\, BC\n🍪Willowbrook:  20020 Willowbrook Dr\, Langley\, BC\n🍪Willowbrook Shopping Centre: 130 – 19705 Fraser Hwy\, Langley\, BC
URL:https://langley.bigbrothersbigsisters.ca/events-calendar/smile-cookie-week/
END:VEVENT
BEGIN:VEVENT
DTSTART;VALUE=DATE:20260607
DTEND;VALUE=DATE:20260608
DTSTAMP:20260419T185139
CREATED:20260304T195653Z
LAST-MODIFIED:20260304T195833Z
UID:11909-1780790400-1780876799@langley.bigbrothersbigsisters.ca
SUMMARY:Big Brothers Big Sisters Langley at the Fraser Valley GranFondo
DESCRIPTION:We are thrilled to share that Big Brothers Big Sisters Langley is a benefiting charity of the 2026 Fraser Valley GranFondo! \nOrganized by Valley GranFondo\, this is the largest family-friendly cycling event in the Fraser Valley. The event is designed to provide a safe\, fun\, and inclusive experience while encouraging more families and youth to participate in cycling. \nEven better? The day wraps up with a community post-ride festival at Eagle Acres Dairy Farm\, featuring live music\, a BBQ lunch\, and farm animals; making it a fantastic day for riders and supporters alike! \n\n📅 Event Details\nDate: June 7\, 2026The Fraser Valley GranFondo is one of the first rides of the season in the Lower Mainland;  a perfect way to kick off your cycling year!  Visit the Event Page here: 2026 — 2026 Valley GranFondo — Race Roster — Registration\, Marketing\, Fundraising \nRide Distances:\nGranFondo (120 km)   Rolling hills and steady climbs through the Fraser Valley  ✔ 5 aid stations \nMedioFondo (85 km)  Travels around Langley and Abbotsford  ✔ 4 aid stations \nPrestoFondo (50 km)  Great for newer riders or those looking for a more relaxed experience  ✔ 1 aid station \nFamilyFondo (20 km)  A fun and affordable ride for families and youth  (children under 7 can join in a bike trailer) \nThis is a self-paced ride\, not a timed race; with community-based team awards rather than individual results. It’s all about participation\, connection\, and community spirit! \n\n👥 Registration\nRiders can register as an individual or as part of a team; there is no additional fee for team registration. Teams must have a minimum of 5 riders (no maximum!).  2026 — 2026 Valley GranFondo — Race Roster — Registration\, Marketing\, Fundraising \nWhen registering\, you’ll have the choice to create your own team or join ours! \nIf you want to join our team\, simply search for:Team Big Brothers Big Sisters Langley \nTo register as your own team (you need at least 5 people)\, one person (team captain) creates the team name and selects whether the team is private or public. Other team members then register by searching for the team name and completing their personal registration information (if public). If it is a private team\, they register through the link provided by the team captain. \n\n💚 Fundraising Opportunities\nThe Fraser Valley GranFondo was created as a community-centric event with a strong fundraising focus. Riders can support Big Brothers Big Sisters Langley in two ways: \n1️⃣ Donation During Registration\nParticipants can choose to donate to one of the charity partners during the registration process. \n2️⃣ Create a Personal Fundraising Page\nRiders can register on behalf of Big Brothers Big Sisters Langley and create their own shareable fundraising page to collect donations from friends\, family\, and colleagues. \nEvery dollar raised helps us empower young people in Langley through life-changing mentorship programs. \n\nWhether you’re an experienced cyclist\, new to the sport\, or looking for a fun family ride; this event truly has something for everyone. \nWe hope you’ll join us on June 7 and ride for youth in our community! 🚴‍♀️💚
URL:https://langley.bigbrothersbigsisters.ca/events-calendar/big-brothers-big-sisters-langley-at-the-fraser-valley-granfondo/
END:VEVENT
BEGIN:VEVENT
DTSTART;TZID=America/Vancouver:20260723T110000
DTEND;TZID=America/Vancouver:20260723T200000
DTSTAMP:20260419T185139
CREATED:20260120T175446Z
LAST-MODIFIED:20260210T010529Z
UID:11724-1784804400-1784836800@langley.bigbrothersbigsisters.ca
SUMMARY:38th Annual Charity Golf for Kids’ Sake Tournament
DESCRIPTION:This annual event taking place at Newlands Golf Course is always a great day of fun\, connection\, and friendly competition\, all while raising vital funds to support local mentorship programs. Join us for a meaningful day on the course and help make a lasting impact for young people in our community.\nLearn more and sign up to sponsor or golf here: Golf For Kids Sake 2026 – Big Brothers Big Sisters of Langley
URL:https://langley.bigbrothersbigsisters.ca/events-calendar/38th-annual-charity-golf-for-kids-sake-tournament/
END:VEVENT
END:VCALENDAR