BEGIN:VCALENDAR
VERSION:2.0
PRODID:-//Big Brothers Big Sisters of Langley - ECPv6.15.17//NONSGML v1.0//EN
CALSCALE:GREGORIAN
METHOD:PUBLISH
X-ORIGINAL-URL:https://langley.bigbrothersbigsisters.ca
X-WR-CALDESC:Events for Big Brothers Big Sisters of Langley
REFRESH-INTERVAL;VALUE=DURATION:PT1H
X-Robots-Tag:noindex
X-PUBLISHED-TTL:PT1H
BEGIN:VTIMEZONE
TZID:America/Vancouver
BEGIN:DAYLIGHT
TZOFFSETFROM:-0800
TZOFFSETTO:-0700
TZNAME:PDT
DTSTART:20250309T100000
END:DAYLIGHT
BEGIN:STANDARD
TZOFFSETFROM:-0700
TZOFFSETTO:-0800
TZNAME:PST
DTSTART:20251102T090000
END:STANDARD
BEGIN:DAYLIGHT
TZOFFSETFROM:-0800
TZOFFSETTO:-0700
TZNAME:PDT
DTSTART:20260308T100000
END:DAYLIGHT
BEGIN:STANDARD
TZOFFSETFROM:-0700
TZOFFSETTO:-0800
TZNAME:PST
DTSTART:20261101T090000
END:STANDARD
BEGIN:DAYLIGHT
TZOFFSETFROM:-0800
TZOFFSETTO:-0700
TZNAME:PDT
DTSTART:20270314T100000
END:DAYLIGHT
BEGIN:STANDARD
TZOFFSETFROM:-0700
TZOFFSETTO:-0800
TZNAME:PST
DTSTART:20271107T090000
END:STANDARD
END:VTIMEZONE
BEGIN:VEVENT
DTSTART;TZID=America/Vancouver:20260306T183000
DTEND;TZID=America/Vancouver:20260306T193000
DTSTAMP:20260419T171056
CREATED:20260120T181604Z
LAST-MODIFIED:20260120T181604Z
UID:11728-1772821800-1772825400@langley.bigbrothersbigsisters.ca
SUMMARY:SpinCo Cloverdale's Spin It Forward Ride
DESCRIPTION:Big Brothers Big Sisters is SpinCo Cloverdale’s Spin It Forward recipient for their Friday night rides at 6:30pm throughout the month of March! When you join a Friday ride\, your $10 admission is donated directly back to our agency to help support mentorship programs right here in our community. Grab a friend\, hop on a bike\, and sweat for a great cause while giving back to local youth. \nBuy your ride credit here: https://spinco.ca/buy/?_mt=%2Fbuy%2F48759%3FactiveProduct%3Dcredits-14979Sign up for your class here: https://spinco.ca/book/?_mt=%2Fschedule%2Fdaily%2F48541%3FactiveDate%3D2026-03-06%26locations%3D48759
URL:https://langley.bigbrothersbigsisters.ca/events-calendar/spinco-cloverdales-spin-it-forward-ride/
END:VEVENT
BEGIN:VEVENT
DTSTART;TZID=America/Vancouver:20260306T191500
DTEND;TZID=America/Vancouver:20260306T214500
DTSTAMP:20260419T171056
CREATED:20260209T173751Z
LAST-MODIFIED:20260209T181057Z
UID:11869-1772824500-1772833500@langley.bigbrothersbigsisters.ca
SUMMARY:BBBSL Cheering on the Langley Rivermen!
DESCRIPTION:We’re heading to the Langley Rivermen Hockey Game on Friday\, March 6th at 7:15pm at The George Preston Recreation Centre in Langley! \nTickets are just $10 (plus tax) and when you purchase through our unique link\, 50% of every ticket sold comes back to support Big Brothers Big Sisters Langley. \nIt’s a super fun night out cheering on our local team and an easy way to give back to youth in our community. Win win 💙 \nTickets can be purchased here:  Create Amazing Experiences · Showpass
URL:https://langley.bigbrothersbigsisters.ca/events-calendar/langley-rivermen-game/
END:VEVENT
END:VCALENDAR